BEGIN:VCALENDAR
VERSION:2.0
PRODID:-//Lake Ridge Golf and Sports Bar - ECPv6.15.20//NONSGML v1.0//EN
CALSCALE:GREGORIAN
METHOD:PUBLISH
X-WR-CALNAME:Lake Ridge Golf and Sports Bar
X-ORIGINAL-URL:https://golflakeridge.com
X-WR-CALDESC:Events for Lake Ridge Golf and Sports Bar
REFRESH-INTERVAL;VALUE=DURATION:PT1H
X-Robots-Tag:noindex
X-PUBLISHED-TTL:PT1H
BEGIN:VTIMEZONE
TZID:America/Toronto
BEGIN:DAYLIGHT
TZOFFSETFROM:-0500
TZOFFSETTO:-0400
TZNAME:EDT
DTSTART:20240310T070000
END:DAYLIGHT
BEGIN:STANDARD
TZOFFSETFROM:-0400
TZOFFSETTO:-0500
TZNAME:EST
DTSTART:20241103T060000
END:STANDARD
BEGIN:DAYLIGHT
TZOFFSETFROM:-0500
TZOFFSETTO:-0400
TZNAME:EDT
DTSTART:20250309T070000
END:DAYLIGHT
BEGIN:STANDARD
TZOFFSETFROM:-0400
TZOFFSETTO:-0500
TZNAME:EST
DTSTART:20251102T060000
END:STANDARD
BEGIN:DAYLIGHT
TZOFFSETFROM:-0500
TZOFFSETTO:-0400
TZNAME:EDT
DTSTART:20260308T070000
END:DAYLIGHT
BEGIN:STANDARD
TZOFFSETFROM:-0400
TZOFFSETTO:-0500
TZNAME:EST
DTSTART:20261101T060000
END:STANDARD
END:VTIMEZONE
BEGIN:VEVENT
DTSTART;TZID=America/Toronto:20250327T190000
DTEND;TZID=America/Toronto:20250327T200000
DTSTAMP:20260421T071751
CREATED:20241022T175929Z
LAST-MODIFIED:20241022T175929Z
UID:10003599-1743102000-1743105600@golflakeridge.com
SUMMARY:2025 Annual Ladies League Meeting
DESCRIPTION:The annual Women’s League meeting will be held Thursday Mar 27 at 7:00 in Caddies Lounge.  This is the annual meeting to discuss any changes to current rules and formats and to appoint members to the League Committee. This is YOUR league and any changes to the rules or format must be voted on by league members\, so maximum attendance is requested. The Tuesday Ladies League kicks off  Apr 29 at 5:30 and the Thursday Ladies League kicks off Apr 24 at 5:30.
URL:https://golflakeridge.com/event/2025-annual-ladies-league-meeting/
LOCATION:Lake Ridge Golf and Sports Bar\, 1536 Country Club Circle\, Plattsmouth\, 68048\, United States
ATTACH;FMTTYPE=image/jpeg:https://golflakeridge.com/wp-content/uploads/2018/01/ladies_golf_2017.jpg
ORGANIZER;CN="Todd Berry":MAILTO:toddberrydog@gmail.com
END:VEVENT
END:VCALENDAR