BEGIN:VCALENDAR
VERSION:2.0
PRODID:-//Lake Ridge Golf and Sports Bar - ECPv6.15.20//NONSGML v1.0//EN
CALSCALE:GREGORIAN
METHOD:PUBLISH
X-ORIGINAL-URL:https://golflakeridge.com
X-WR-CALDESC:Events for Lake Ridge Golf and Sports Bar
REFRESH-INTERVAL;VALUE=DURATION:PT1H
X-Robots-Tag:noindex
X-PUBLISHED-TTL:PT1H
BEGIN:VTIMEZONE
TZID:America/Toronto
BEGIN:DAYLIGHT
TZOFFSETFROM:-0500
TZOFFSETTO:-0400
TZNAME:EDT
DTSTART:20240310T070000
END:DAYLIGHT
BEGIN:STANDARD
TZOFFSETFROM:-0400
TZOFFSETTO:-0500
TZNAME:EST
DTSTART:20241103T060000
END:STANDARD
BEGIN:DAYLIGHT
TZOFFSETFROM:-0500
TZOFFSETTO:-0400
TZNAME:EDT
DTSTART:20250309T070000
END:DAYLIGHT
BEGIN:STANDARD
TZOFFSETFROM:-0400
TZOFFSETTO:-0500
TZNAME:EST
DTSTART:20251102T060000
END:STANDARD
BEGIN:DAYLIGHT
TZOFFSETFROM:-0500
TZOFFSETTO:-0400
TZNAME:EDT
DTSTART:20260308T070000
END:DAYLIGHT
BEGIN:STANDARD
TZOFFSETFROM:-0400
TZOFFSETTO:-0500
TZNAME:EST
DTSTART:20261101T060000
END:STANDARD
END:VTIMEZONE
BEGIN:VEVENT
DTSTART;TZID=America/Toronto:20250428T173000
DTEND;TZID=America/Toronto:20250428T203000
DTSTAMP:20260421T083446
CREATED:20241022T180238Z
LAST-MODIFIED:20250428T124712Z
UID:10003627-1745861400-1745872200@golflakeridge.com
SUMMARY:Mon Men's League
DESCRIPTION:2025 Monday Men’s League. Shot gun start every Monday starting at 5:30 and runs through the end of September.
URL:https://golflakeridge.com/event/mon-mens-league-94/2025-04-28/
LOCATION:Lake Ridge Golf and Sports Bar\, 1536 Country Club Circle\, Plattsmouth\, 68048\, United States
ATTACH;FMTTYPE=image/png:https://golflakeridge.com/wp-content/uploads/2019/12/Golf-Mens-League.png
ORGANIZER;CN="Todd Berry":MAILTO:toddberrydog@gmail.com
END:VEVENT
END:VCALENDAR