BEGIN:VCALENDAR
VERSION:2.0
PRODID:-//Lake Ridge Golf and Sports Bar - ECPv6.15.20//NONSGML v1.0//EN
CALSCALE:GREGORIAN
METHOD:PUBLISH
X-WR-CALNAME:Lake Ridge Golf and Sports Bar
X-ORIGINAL-URL:https://golflakeridge.com
X-WR-CALDESC:Events for Lake Ridge Golf and Sports Bar
REFRESH-INTERVAL;VALUE=DURATION:PT1H
X-Robots-Tag:noindex
X-PUBLISHED-TTL:PT1H
BEGIN:VTIMEZONE
TZID:America/Toronto
BEGIN:DAYLIGHT
TZOFFSETFROM:-0500
TZOFFSETTO:-0400
TZNAME:EDT
DTSTART:20240310T070000
END:DAYLIGHT
BEGIN:STANDARD
TZOFFSETFROM:-0400
TZOFFSETTO:-0500
TZNAME:EST
DTSTART:20241103T060000
END:STANDARD
BEGIN:DAYLIGHT
TZOFFSETFROM:-0500
TZOFFSETTO:-0400
TZNAME:EDT
DTSTART:20250309T070000
END:DAYLIGHT
BEGIN:STANDARD
TZOFFSETFROM:-0400
TZOFFSETTO:-0500
TZNAME:EST
DTSTART:20251102T060000
END:STANDARD
BEGIN:DAYLIGHT
TZOFFSETFROM:-0500
TZOFFSETTO:-0400
TZNAME:EDT
DTSTART:20260308T070000
END:DAYLIGHT
BEGIN:STANDARD
TZOFFSETFROM:-0400
TZOFFSETTO:-0500
TZNAME:EST
DTSTART:20261101T060000
END:STANDARD
END:VTIMEZONE
BEGIN:VEVENT
DTSTART;TZID=America/Toronto:20250502T110000
DTEND;TZID=America/Toronto:20250502T170000
DTSTAMP:20260421T054459
CREATED:20241022T175503Z
LAST-MODIFIED:20241022T175503Z
UID:10003597-1746183600-1746205200@golflakeridge.com
SUMMARY:Sky Divers Jump and Golf Scramble
DESCRIPTION:Sky divers jump onto the course at 11:00 and shotgun start at 1:00. 18 holes 2-person scramble
URL:https://golflakeridge.com/event/sky-divers-jump-and-golf-scramble-9/
LOCATION:Lake Ridge Golf and Sports Bar\, 1536 Country Club Circle\, Plattsmouth\, 68048\, United States
ATTACH;FMTTYPE=image/png:https://golflakeridge.com/wp-content/uploads/2017/01/Skydivers.png
ORGANIZER;CN="Todd Berry":MAILTO:toddberrydog@gmail.com
END:VEVENT
BEGIN:VEVENT
DTSTART;TZID=America/Toronto:20250502T190000
DTEND;TZID=America/Toronto:20250502T235900
DTSTAMP:20260421T054459
CREATED:20241022T172313Z
LAST-MODIFIED:20241022T172313Z
UID:10003579-1746212400-1746230340@golflakeridge.com
SUMMARY:Glow Ball Tournament
DESCRIPTION:Glow Ball Tournament. 9 hole 2-person scramble. Dinner provided. Shotgun start at dusk. Glow Ball fills up fast so please sign-up early to ensure your spot.
URL:https://golflakeridge.com/event/glow-ball-tournament-15/
LOCATION:Lake Ridge Golf and Sports Bar\, 1536 Country Club Circle\, Plattsmouth\, 68048\, United States
ATTACH;FMTTYPE=image/jpeg:https://golflakeridge.com/wp-content/uploads/2019/12/Glow-Ball-5.jpg
ORGANIZER;CN="Todd Berry":MAILTO:toddberrydog@gmail.com
END:VEVENT
END:VCALENDAR