BEGIN:VCALENDAR
VERSION:2.0
PRODID:-//Lake Ridge Golf and Sports Bar - ECPv6.15.20//NONSGML v1.0//EN
CALSCALE:GREGORIAN
METHOD:PUBLISH
X-WR-CALNAME:Lake Ridge Golf and Sports Bar
X-ORIGINAL-URL:https://golflakeridge.com
X-WR-CALDESC:Events for Lake Ridge Golf and Sports Bar
REFRESH-INTERVAL;VALUE=DURATION:PT1H
X-Robots-Tag:noindex
X-PUBLISHED-TTL:PT1H
BEGIN:VTIMEZONE
TZID:America/Toronto
BEGIN:DAYLIGHT
TZOFFSETFROM:-0500
TZOFFSETTO:-0400
TZNAME:EDT
DTSTART:20240310T070000
END:DAYLIGHT
BEGIN:STANDARD
TZOFFSETFROM:-0400
TZOFFSETTO:-0500
TZNAME:EST
DTSTART:20241103T060000
END:STANDARD
BEGIN:DAYLIGHT
TZOFFSETFROM:-0500
TZOFFSETTO:-0400
TZNAME:EDT
DTSTART:20250309T070000
END:DAYLIGHT
BEGIN:STANDARD
TZOFFSETFROM:-0400
TZOFFSETTO:-0500
TZNAME:EST
DTSTART:20251102T060000
END:STANDARD
BEGIN:DAYLIGHT
TZOFFSETFROM:-0500
TZOFFSETTO:-0400
TZNAME:EDT
DTSTART:20260308T070000
END:DAYLIGHT
BEGIN:STANDARD
TZOFFSETFROM:-0400
TZOFFSETTO:-0500
TZNAME:EST
DTSTART:20261101T060000
END:STANDARD
END:VTIMEZONE
BEGIN:VEVENT
DTSTART;VALUE=DATE:20250518
DTEND;VALUE=DATE:20250519
DTSTAMP:20260421T071640
CREATED:20250123T163113Z
LAST-MODIFIED:20250130T072147Z
UID:10003901-1747526400-1747612799@golflakeridge.com
SUMMARY:Allison Welch Memorial Golf Tournament
DESCRIPTION:Join us for a Day of Golf\, Giving\, and Remembrance. We invite you to be part of the first annual Allison Welch Memorial Golf Tournament as we honor the memory of a loving wife\,\nremarkable mother\, cherished daughter\, beloved sister\, and dear friend. \n2 sessions with shot gun starts at 8:00 am and 1:30 pm. 18 hole 4-Person Scramble. Limited to 18 teams per session. Sign up early to ensure your spot. Money raised will go to the Allison A. Welch Conestoga Educational Scholarship\nFund.
URL:https://golflakeridge.com/event/allison-welch-memorial-golf-tournament/
LOCATION:Lake Ridge Golf and Sports Bar\, 1536 Country Club Circle\, Plattsmouth\, 68048\, United States
ATTACH;FMTTYPE=image/jpeg:https://golflakeridge.com/wp-content/uploads/2025/01/Allison-Welch.jpeg
ORGANIZER;CN="Todd Berry":MAILTO:toddberrydog@gmail.com
END:VEVENT
END:VCALENDAR