BEGIN:VCALENDAR
VERSION:2.0
PRODID:-//Lake Ridge Golf and Sports Bar - ECPv6.15.20//NONSGML v1.0//EN
CALSCALE:GREGORIAN
METHOD:PUBLISH
X-WR-CALNAME:Lake Ridge Golf and Sports Bar
X-ORIGINAL-URL:https://golflakeridge.com
X-WR-CALDESC:Events for Lake Ridge Golf and Sports Bar
REFRESH-INTERVAL;VALUE=DURATION:PT1H
X-Robots-Tag:noindex
X-PUBLISHED-TTL:PT1H
BEGIN:VTIMEZONE
TZID:America/Toronto
BEGIN:DAYLIGHT
TZOFFSETFROM:-0500
TZOFFSETTO:-0400
TZNAME:EDT
DTSTART:20240310T070000
END:DAYLIGHT
BEGIN:STANDARD
TZOFFSETFROM:-0400
TZOFFSETTO:-0500
TZNAME:EST
DTSTART:20241103T060000
END:STANDARD
BEGIN:DAYLIGHT
TZOFFSETFROM:-0500
TZOFFSETTO:-0400
TZNAME:EDT
DTSTART:20250309T070000
END:DAYLIGHT
BEGIN:STANDARD
TZOFFSETFROM:-0400
TZOFFSETTO:-0500
TZNAME:EST
DTSTART:20251102T060000
END:STANDARD
BEGIN:DAYLIGHT
TZOFFSETFROM:-0500
TZOFFSETTO:-0400
TZNAME:EDT
DTSTART:20260308T070000
END:DAYLIGHT
BEGIN:STANDARD
TZOFFSETFROM:-0400
TZOFFSETTO:-0500
TZNAME:EST
DTSTART:20261101T060000
END:STANDARD
END:VTIMEZONE
BEGIN:VEVENT
DTSTART;TZID=America/Toronto:20250624T110000
DTEND;TZID=America/Toronto:20250624T140000
DTSTAMP:20260421T084049
CREATED:20241022T174546Z
LAST-MODIFIED:20241022T174546Z
UID:10003587-1750762800-1750773600@golflakeridge.com
SUMMARY:Junior Tournament
DESCRIPTION:Boys and Girls age divisions. 9 holes with shotgun start at 11:00. Cost is $10 for members and $15 for guest. Hotdogs and chips  provided after the tournament. Please contact the pro shop to sign-up for this event.
URL:https://golflakeridge.com/event/junior-tournament-9/
LOCATION:Lake Ridge Golf and Sports Bar\, 1536 Country Club Circle\, Plattsmouth\, 68048\, United States
ATTACH;FMTTYPE=image/gif:https://golflakeridge.com/wp-content/uploads/2018/01/junior_golf.gif
ORGANIZER;CN="Todd Berry":MAILTO:toddberrydog@gmail.com
END:VEVENT
BEGIN:VEVENT
DTSTART;TZID=America/Toronto:20250624T173000
DTEND;TZID=America/Toronto:20250624T203000
DTSTAMP:20260421T084049
CREATED:20241022T181300Z
LAST-MODIFIED:20241022T181421Z
UID:10003790-1750786200-1750797000@golflakeridge.com
SUMMARY:Tue Ladies League
DESCRIPTION:2025 Tuesday Ladies League. Shot gun start every Tuesday starting at 5:30 and runs through the middle of Sep
URL:https://golflakeridge.com/event/tue-ladies-league-60/2025-06-24/
LOCATION:Lake Ridge Golf and Sports Bar\, 1536 Country Club Circle\, Plattsmouth\, 68048\, United States
ATTACH;FMTTYPE=image/jpeg:https://golflakeridge.com/wp-content/uploads/2018/01/Ladies-Header-300x225.jpg
ORGANIZER;CN="Todd Berry":MAILTO:toddberrydog@gmail.com
END:VEVENT
END:VCALENDAR