BEGIN:VCALENDAR
VERSION:2.0
PRODID:-//Lake Ridge Golf and Sports Bar - ECPv6.15.20//NONSGML v1.0//EN
CALSCALE:GREGORIAN
METHOD:PUBLISH
X-WR-CALNAME:Lake Ridge Golf and Sports Bar
X-ORIGINAL-URL:https://golflakeridge.com
X-WR-CALDESC:Events for Lake Ridge Golf and Sports Bar
REFRESH-INTERVAL;VALUE=DURATION:PT1H
X-Robots-Tag:noindex
X-PUBLISHED-TTL:PT1H
BEGIN:VTIMEZONE
TZID:America/Toronto
BEGIN:DAYLIGHT
TZOFFSETFROM:-0500
TZOFFSETTO:-0400
TZNAME:EDT
DTSTART:20240310T070000
END:DAYLIGHT
BEGIN:STANDARD
TZOFFSETFROM:-0400
TZOFFSETTO:-0500
TZNAME:EST
DTSTART:20241103T060000
END:STANDARD
BEGIN:DAYLIGHT
TZOFFSETFROM:-0500
TZOFFSETTO:-0400
TZNAME:EDT
DTSTART:20250309T070000
END:DAYLIGHT
BEGIN:STANDARD
TZOFFSETFROM:-0400
TZOFFSETTO:-0500
TZNAME:EST
DTSTART:20251102T060000
END:STANDARD
BEGIN:DAYLIGHT
TZOFFSETFROM:-0500
TZOFFSETTO:-0400
TZNAME:EDT
DTSTART:20260308T070000
END:DAYLIGHT
BEGIN:STANDARD
TZOFFSETFROM:-0400
TZOFFSETTO:-0500
TZNAME:EST
DTSTART:20261101T060000
END:STANDARD
END:VTIMEZONE
BEGIN:VEVENT
DTSTART;TZID=America/Toronto:20251217T180000
DTEND;TZID=America/Toronto:20251217T210000
DTSTAMP:20260425T135846
CREATED:20251201T164948Z
LAST-MODIFIED:20251201T164948Z
UID:10004388-1765994400-1766005200@golflakeridge.com
SUMMARY:9th annual Christmas GNO Slap and Swap
DESCRIPTION:This is a GNO (girls night only) private event. Please purchase a gift up to $25\, and bring it for a good old fashioned\, with a twist gift exchange. We pick numbers\, then choose a gift and anyone can slap and swap gifts. (Steal a gift\, with an optional slap). Gifts can only be slapped and swapped a total of 3 times.
URL:https://golflakeridge.com/event/9th-annual-christmas-gno-slap-and-swap/
LOCATION:Lake Ridge Golf and Sports Bar\, 1536 Country Club Circle\, Plattsmouth\, 68048\, United States
ATTACH;FMTTYPE=image/jpeg:https://golflakeridge.com/wp-content/uploads/2025/12/2025-Slap-and-Swap.jpg
END:VEVENT
END:VCALENDAR