BEGIN:VCALENDAR
VERSION:2.0
PRODID:-//Lake Ridge Golf and Sports Bar - ECPv6.15.20//NONSGML v1.0//EN
CALSCALE:GREGORIAN
METHOD:PUBLISH
X-ORIGINAL-URL:https://golflakeridge.com
X-WR-CALDESC:Events for Lake Ridge Golf and Sports Bar
REFRESH-INTERVAL;VALUE=DURATION:PT1H
X-Robots-Tag:noindex
X-PUBLISHED-TTL:PT1H
BEGIN:VTIMEZONE
TZID:America/Toronto
BEGIN:DAYLIGHT
TZOFFSETFROM:-0500
TZOFFSETTO:-0400
TZNAME:EDT
DTSTART:20250309T070000
END:DAYLIGHT
BEGIN:STANDARD
TZOFFSETFROM:-0400
TZOFFSETTO:-0500
TZNAME:EST
DTSTART:20251102T060000
END:STANDARD
BEGIN:DAYLIGHT
TZOFFSETFROM:-0500
TZOFFSETTO:-0400
TZNAME:EDT
DTSTART:20260308T070000
END:DAYLIGHT
BEGIN:STANDARD
TZOFFSETFROM:-0400
TZOFFSETTO:-0500
TZNAME:EST
DTSTART:20261101T060000
END:STANDARD
BEGIN:DAYLIGHT
TZOFFSETFROM:-0500
TZOFFSETTO:-0400
TZNAME:EDT
DTSTART:20270314T070000
END:DAYLIGHT
BEGIN:STANDARD
TZOFFSETFROM:-0400
TZOFFSETTO:-0500
TZNAME:EST
DTSTART:20271107T060000
END:STANDARD
END:VTIMEZONE
BEGIN:VEVENT
DTSTART;TZID=America/Toronto:20260718T090000
DTEND;TZID=America/Toronto:20260718T150000
DTSTAMP:20260422T090117
CREATED:20251125T150913Z
LAST-MODIFIED:20251125T150913Z
UID:10004191-1784365200-1784386800@golflakeridge.com
SUMMARY:Conestoga Booster Club Golf Fundraiser
DESCRIPTION:18 Hole 4-Person Scramble. Registration from 8:00 am. Shotgun start at 9:00 am.
URL:https://golflakeridge.com/event/conestoga-booster-club-golf-fundraiser/
LOCATION:Lake Ridge Golf and Sports Bar\, 1536 Country Club Circle\, Plattsmouth\, 68048\, United States
ATTACH;FMTTYPE=image/jpeg:https://golflakeridge.com/wp-content/uploads/2018/03/Booster-Club-1.jpg
ORGANIZER;CN="Todd Berry":MAILTO:toddberrydog@gmail.com
END:VEVENT
END:VCALENDAR