BEGIN:VCALENDAR
VERSION:2.0
PRODID:-//Lake Ridge Golf and Sports Bar - ECPv6.15.20//NONSGML v1.0//EN
CALSCALE:GREGORIAN
METHOD:PUBLISH
X-ORIGINAL-URL:https://golflakeridge.com
X-WR-CALDESC:Events for Lake Ridge Golf and Sports Bar
REFRESH-INTERVAL;VALUE=DURATION:PT1H
X-Robots-Tag:noindex
X-PUBLISHED-TTL:PT1H
BEGIN:VTIMEZONE
TZID:America/Toronto
BEGIN:DAYLIGHT
TZOFFSETFROM:-0500
TZOFFSETTO:-0400
TZNAME:EDT
DTSTART:20240310T070000
END:DAYLIGHT
BEGIN:STANDARD
TZOFFSETFROM:-0400
TZOFFSETTO:-0500
TZNAME:EST
DTSTART:20241103T060000
END:STANDARD
BEGIN:DAYLIGHT
TZOFFSETFROM:-0500
TZOFFSETTO:-0400
TZNAME:EDT
DTSTART:20250309T070000
END:DAYLIGHT
BEGIN:STANDARD
TZOFFSETFROM:-0400
TZOFFSETTO:-0500
TZNAME:EST
DTSTART:20251102T060000
END:STANDARD
BEGIN:DAYLIGHT
TZOFFSETFROM:-0500
TZOFFSETTO:-0400
TZNAME:EDT
DTSTART:20260308T070000
END:DAYLIGHT
BEGIN:STANDARD
TZOFFSETFROM:-0400
TZOFFSETTO:-0500
TZNAME:EST
DTSTART:20261101T060000
END:STANDARD
END:VTIMEZONE
BEGIN:VEVENT
DTSTART;TZID=America/Toronto:20250407T173000
DTEND;TZID=America/Toronto:20250407T203000
DTSTAMP:20260421T043852
CREATED:20241022T180238Z
LAST-MODIFIED:20250428T124712Z
UID:10003624-1744047000-1744057800@golflakeridge.com
SUMMARY:Mon Men's League
DESCRIPTION:2025 Monday Men’s League. Shot gun start every Monday starting at 5:30 and runs through the end of September.
URL:https://golflakeridge.com/event/mon-mens-league-94/2025-04-07/
LOCATION:Lake Ridge Golf and Sports Bar\, 1536 Country Club Circle\, Plattsmouth\, 68048\, United States
ATTACH;FMTTYPE=image/png:https://golflakeridge.com/wp-content/uploads/2019/12/Golf-Mens-League.png
ORGANIZER;CN="Todd Berry":MAILTO:toddberrydog@gmail.com
END:VEVENT
BEGIN:VEVENT
DTSTART;TZID=America/Toronto:20250409T173000
DTEND;TZID=America/Toronto:20250409T203000
DTSTAMP:20260421T043852
CREATED:20241022T180508Z
LAST-MODIFIED:20241022T180508Z
UID:10003674-1744219800-1744230600@golflakeridge.com
SUMMARY:Wed Men's League
DESCRIPTION:2024 Wednesday Men’s League. Shot gun start every Wednesday starting at 5:30 and runs through the end of September.
URL:https://golflakeridge.com/event/wed-mens-league-125/2025-04-09/
LOCATION:Lake Ridge Golf and Sports Bar\, 1536 Country Club Circle\, Plattsmouth\, 68048\, United States
ATTACH;FMTTYPE=image/png:https://golflakeridge.com/wp-content/uploads/2019/12/Golf-Mens-League.png
ORGANIZER;CN="Todd Berry":MAILTO:toddberrydog@gmail.com
END:VEVENT
BEGIN:VEVENT
DTSTART;TZID=America/Toronto:20250411T100000
DTEND;TZID=America/Toronto:20250411T150000
DTSTAMP:20260421T043852
CREATED:20250115T192138Z
LAST-MODIFIED:20250115T192138Z
UID:10003899-1744365600-1744383600@golflakeridge.com
SUMMARY:Nebraska Veterans Golf Association Golf Outing
DESCRIPTION:18 Hole 4-Person Scramble. Tee times start at 10:00 am
URL:https://golflakeridge.com/event/nebraska-veterans-golf-association-golf-outing/
LOCATION:Lake Ridge Golf and Sports Bar\, 1536 Country Club Circle\, Plattsmouth\, 68048\, United States
ATTACH;FMTTYPE=image/png:https://golflakeridge.com/wp-content/uploads/2025/01/Nebraska-VGA.png
ORGANIZER;CN="Aaron Moore":MAILTO:aaron.moore@vgagolf.org
END:VEVENT
BEGIN:VEVENT
DTSTART;TZID=America/Toronto:20250414T173000
DTEND;TZID=America/Toronto:20250414T203000
DTSTAMP:20260421T043852
CREATED:20241022T180238Z
LAST-MODIFIED:20250428T124712Z
UID:10003625-1744651800-1744662600@golflakeridge.com
SUMMARY:Mon Men's League
DESCRIPTION:2025 Monday Men’s League. Shot gun start every Monday starting at 5:30 and runs through the end of September.
URL:https://golflakeridge.com/event/mon-mens-league-94/2025-04-14/
LOCATION:Lake Ridge Golf and Sports Bar\, 1536 Country Club Circle\, Plattsmouth\, 68048\, United States
ATTACH;FMTTYPE=image/png:https://golflakeridge.com/wp-content/uploads/2019/12/Golf-Mens-League.png
ORGANIZER;CN="Todd Berry":MAILTO:toddberrydog@gmail.com
END:VEVENT
BEGIN:VEVENT
DTSTART;TZID=America/Toronto:20250416T173000
DTEND;TZID=America/Toronto:20250416T203000
DTSTAMP:20260421T043852
CREATED:20241022T180508Z
LAST-MODIFIED:20241022T180508Z
UID:10003675-1744824600-1744835400@golflakeridge.com
SUMMARY:Wed Men's League
DESCRIPTION:2024 Wednesday Men’s League. Shot gun start every Wednesday starting at 5:30 and runs through the end of September.
URL:https://golflakeridge.com/event/wed-mens-league-125/2025-04-16/
LOCATION:Lake Ridge Golf and Sports Bar\, 1536 Country Club Circle\, Plattsmouth\, 68048\, United States
ATTACH;FMTTYPE=image/png:https://golflakeridge.com/wp-content/uploads/2019/12/Golf-Mens-League.png
ORGANIZER;CN="Todd Berry":MAILTO:toddberrydog@gmail.com
END:VEVENT
BEGIN:VEVENT
DTSTART;TZID=America/Toronto:20250421T173000
DTEND;TZID=America/Toronto:20250421T203000
DTSTAMP:20260421T043852
CREATED:20241022T180238Z
LAST-MODIFIED:20250428T124712Z
UID:10003626-1745256600-1745267400@golflakeridge.com
SUMMARY:Mon Men's League
DESCRIPTION:2025 Monday Men’s League. Shot gun start every Monday starting at 5:30 and runs through the end of September.
URL:https://golflakeridge.com/event/mon-mens-league-94/2025-04-21/
LOCATION:Lake Ridge Golf and Sports Bar\, 1536 Country Club Circle\, Plattsmouth\, 68048\, United States
ATTACH;FMTTYPE=image/png:https://golflakeridge.com/wp-content/uploads/2019/12/Golf-Mens-League.png
ORGANIZER;CN="Todd Berry":MAILTO:toddberrydog@gmail.com
END:VEVENT
BEGIN:VEVENT
DTSTART;TZID=America/Toronto:20250423T173000
DTEND;TZID=America/Toronto:20250423T203000
DTSTAMP:20260421T043852
CREATED:20241022T180508Z
LAST-MODIFIED:20241022T180508Z
UID:10003676-1745429400-1745440200@golflakeridge.com
SUMMARY:Wed Men's League
DESCRIPTION:2024 Wednesday Men’s League. Shot gun start every Wednesday starting at 5:30 and runs through the end of September.
URL:https://golflakeridge.com/event/wed-mens-league-125/2025-04-23/
LOCATION:Lake Ridge Golf and Sports Bar\, 1536 Country Club Circle\, Plattsmouth\, 68048\, United States
ATTACH;FMTTYPE=image/png:https://golflakeridge.com/wp-content/uploads/2019/12/Golf-Mens-League.png
ORGANIZER;CN="Todd Berry":MAILTO:toddberrydog@gmail.com
END:VEVENT
BEGIN:VEVENT
DTSTART;TZID=America/Toronto:20250424T173000
DTEND;TZID=America/Toronto:20250424T203000
DTSTAMP:20260421T043852
CREATED:20241022T181132Z
LAST-MODIFIED:20241022T181132Z
UID:10003760-1745515800-1745526600@golflakeridge.com
SUMMARY:Thu Ladies League
DESCRIPTION:2025 Thursday Ladies League. Shot gun start every Thursday starting at 5:30 and runs through the middle of Sep.
URL:https://golflakeridge.com/event/thu-ladies-league-8/2025-04-24/
LOCATION:Lake Ridge Golf and Sports Bar\, 1536 Country Club Circle\, Plattsmouth\, 68048\, United States
ATTACH;FMTTYPE=image/jpeg:https://golflakeridge.com/wp-content/uploads/2018/01/Ladies-Header-300x225.jpg
ORGANIZER;CN="Todd Berry":MAILTO:toddberrydog@gmail.com
END:VEVENT
BEGIN:VEVENT
DTSTART;TZID=America/Toronto:20250426T180000
DTEND;TZID=America/Toronto:20250426T235900
DTSTAMP:20260421T043852
CREATED:20250207T205801Z
LAST-MODIFIED:20250207T205801Z
UID:10003917-1745690400-1745711940@golflakeridge.com
SUMMARY:Conestoga Booster Club Appreciation Night
DESCRIPTION:Conestoga Booster Club Appreciation Night
URL:https://golflakeridge.com/event/conestoga-booster-club-appreciation-night-2/
LOCATION:Lake Ridge Golf and Sports Bar\, 1536 Country Club Circle\, Plattsmouth\, 68048\, United States
ATTACH;FMTTYPE=image/jpeg:https://golflakeridge.com/wp-content/uploads/2018/03/Booster-Club-1.jpg
ORGANIZER;CN="Todd Berry":MAILTO:toddberrydog@gmail.com
END:VEVENT
BEGIN:VEVENT
DTSTART;TZID=America/Toronto:20250428T173000
DTEND;TZID=America/Toronto:20250428T203000
DTSTAMP:20260421T043852
CREATED:20241022T180238Z
LAST-MODIFIED:20250428T124712Z
UID:10003627-1745861400-1745872200@golflakeridge.com
SUMMARY:Mon Men's League
DESCRIPTION:2025 Monday Men’s League. Shot gun start every Monday starting at 5:30 and runs through the end of September.
URL:https://golflakeridge.com/event/mon-mens-league-94/2025-04-28/
LOCATION:Lake Ridge Golf and Sports Bar\, 1536 Country Club Circle\, Plattsmouth\, 68048\, United States
ATTACH;FMTTYPE=image/png:https://golflakeridge.com/wp-content/uploads/2019/12/Golf-Mens-League.png
ORGANIZER;CN="Todd Berry":MAILTO:toddberrydog@gmail.com
END:VEVENT
BEGIN:VEVENT
DTSTART;TZID=America/Toronto:20250429T173000
DTEND;TZID=America/Toronto:20250429T203000
DTSTAMP:20260421T043852
CREATED:20241022T181300Z
LAST-MODIFIED:20241022T181421Z
UID:10003782-1745947800-1745958600@golflakeridge.com
SUMMARY:Tue Ladies League
DESCRIPTION:2025 Tuesday Ladies League. Shot gun start every Tuesday starting at 5:30 and runs through the middle of Sep
URL:https://golflakeridge.com/event/tue-ladies-league-60/2025-04-29/
LOCATION:Lake Ridge Golf and Sports Bar\, 1536 Country Club Circle\, Plattsmouth\, 68048\, United States
ATTACH;FMTTYPE=image/jpeg:https://golflakeridge.com/wp-content/uploads/2018/01/Ladies-Header-300x225.jpg
ORGANIZER;CN="Todd Berry":MAILTO:toddberrydog@gmail.com
END:VEVENT
BEGIN:VEVENT
DTSTART;TZID=America/Toronto:20250430T173000
DTEND;TZID=America/Toronto:20250430T203000
DTSTAMP:20260421T043852
CREATED:20241022T180508Z
LAST-MODIFIED:20241022T180508Z
UID:10003677-1746034200-1746045000@golflakeridge.com
SUMMARY:Wed Men's League
DESCRIPTION:2024 Wednesday Men’s League. Shot gun start every Wednesday starting at 5:30 and runs through the end of September.
URL:https://golflakeridge.com/event/wed-mens-league-125/2025-04-30/
LOCATION:Lake Ridge Golf and Sports Bar\, 1536 Country Club Circle\, Plattsmouth\, 68048\, United States
ATTACH;FMTTYPE=image/png:https://golflakeridge.com/wp-content/uploads/2019/12/Golf-Mens-League.png
ORGANIZER;CN="Todd Berry":MAILTO:toddberrydog@gmail.com
END:VEVENT
END:VCALENDAR